BEGIN:VCALENDAR
VERSION:2.0
PRODID:-//dpunkt.verlag - ECPv6.15.16//NONSGML v1.0//EN
CALSCALE:GREGORIAN
METHOD:PUBLISH
X-WR-CALNAME:dpunkt.verlag
X-ORIGINAL-URL:https://dpunkt.de
X-WR-CALDESC:Veranstaltungen für dpunkt.verlag
REFRESH-INTERVAL;VALUE=DURATION:PT1H
X-Robots-Tag:noindex
X-PUBLISHED-TTL:PT1H
BEGIN:VTIMEZONE
TZID:Europe/Berlin
BEGIN:DAYLIGHT
TZOFFSETFROM:+0100
TZOFFSETTO:+0200
TZNAME:CEST
DTSTART:20250330T010000
END:DAYLIGHT
BEGIN:STANDARD
TZOFFSETFROM:+0200
TZOFFSETTO:+0100
TZNAME:CET
DTSTART:20251026T010000
END:STANDARD
BEGIN:DAYLIGHT
TZOFFSETFROM:+0100
TZOFFSETTO:+0200
TZNAME:CEST
DTSTART:20260329T010000
END:DAYLIGHT
BEGIN:STANDARD
TZOFFSETFROM:+0200
TZOFFSETTO:+0100
TZNAME:CET
DTSTART:20261025T010000
END:STANDARD
BEGIN:DAYLIGHT
TZOFFSETFROM:+0100
TZOFFSETTO:+0200
TZNAME:CEST
DTSTART:20270328T010000
END:DAYLIGHT
BEGIN:STANDARD
TZOFFSETFROM:+0200
TZOFFSETTO:+0100
TZNAME:CET
DTSTART:20271031T010000
END:STANDARD
END:VTIMEZONE
BEGIN:VEVENT
DTSTART;VALUE=DATE:20260608
DTEND;VALUE=DATE:20260609
DTSTAMP:20260425T131658
CREATED:20260119T170244Z
LAST-MODIFIED:20260119T170244Z
UID:572777-1780876800-1780963199@dpunkt.de
SUMMARY:betterCode() Testing 2026: Die heise-Konferenz zu Software-Qualität\, Testautomatisierung und KI
DESCRIPTION:Testing im KI-Zeitalter: Qualität sichern\, wo Software entsteht\nDie Softwareentwicklung erlebt eine Zeitenwende in Qualitätssicherung und Testing. KI verändert Prozesse grundlegend\, generiert immer mehr Code – und stellt Teams vor eine zentrale Frage: Wie sichern wir Qualität\, wenn Herkunft und Reife des Codes oft unklar sind? Genau hier setzt die Online-Konferenz an. \nDie betterCode() Testing 2026 zeigt\, warum Testen wichtiger denn je ist und wie das Zusammenspiel von Mensch\, Tools und Prozessen den Erfolg moderner Software sichert. Im Fokus stehen Testing mit KI\, Testautomatisierung und Praxisberichte\, die zeigen\, was wirklich getestet werden sollte – und mit welchen Methoden und Werkzeugen.
URL:https://dpunkt.de/event/bettercode-testing-2026-die-heise-konferenz-zu-software-qualitaet-testautomatisierung-und-ki/
LOCATION:Online
CATEGORIES:online,Unsere Veranstaltungen
ATTACH;FMTTYPE=image/jpeg:https://dpunkt.de/wp-content/uploads/2026/01/bcTesting-2026-NL-Rectangle-276x230-1.jpg
ORGANIZER;CN="dpunkt.verlag":MAILTO:events@dpunkt.de
END:VEVENT
BEGIN:VEVENT
DTSTART;VALUE=DATE:20260608
DTEND;VALUE=DATE:20260611
DTSTAMP:20260425T131658
CREATED:20260422T074535Z
LAST-MODIFIED:20260422T074651Z
UID:580062-1780876800-1781135999@dpunkt.de
SUMMARY:Karlsruher Entwicklertag 2026
DESCRIPTION:Der Karlsruher Entwicklertag ist eine regionale Konferenz zum Thema Software Engineering\n\nTraditionell spielt das Networking der Softwareentwickler:innen aus der Industrie und den Hochschulen in der Fächerstadt eine große Rolle. Die besondere Atmosphäre – exzellente Beiträge\, enger Kontakt zu den Referent:innen\, viele interaktive Formate – lockt mittlerweile Teilnehmende aus dem gesamten deutschsprachigen Raum an. Sie dürfen von uns spannende Keynote Speaker\, abwechslungsreiche Vorträge und ein interessantes Unterhaltungsprogramm erwarten – eben all‘ das\, wofür der Karlsruher Entwicklertag bekannt ist. \n\n\n\n\n\n\n\n\n\n\n\nDer Karlsruher Entwicklertag 2026 wird vom 8. bis 10. Juni in der IHK Karlsruhe stattfinden. \n\n\n\n\n\n \n\n 
URL:https://dpunkt.de/event/karlsruher-entwicklertag-2026/
LOCATION:IHK Karlsruhe\, Lammstr. 13-17\, 76133 Karlsruhe
END:VEVENT
BEGIN:VEVENT
DTSTART;VALUE=DATE:20260610
DTEND;VALUE=DATE:20260612
DTSTAMP:20260425T131658
CREATED:20251205T102831Z
LAST-MODIFIED:20260108T124037Z
UID:569350-1781049600-1781222399@dpunkt.de
SUMMARY:betterCode() GenAI Summit
DESCRIPTION:Die Konferenz zu KI-gestützter Softwareentwicklung\n\n\n\n\n\n\nDer betterCode() GenAI Summit 2026 zeigt dir\, wie du KI-Tools heute (und morgen) einsetzen kannst und wie sich deine Arbeit dadurch verändert. Außerdem erfährst du\, wie die KI-Integration in unterschiedlichen Unternehmen und Organisationen aussieht. \nHier tauschen sich Gleichgesinnte über ihre Erfahrungen zu allen Aspekten von KI in der Softwareentwicklung aus. \n 
URL:https://dpunkt.de/event/bettercode-genai-summit-cfp-bis-08-01-2026/
LOCATION:Mannheim
CATEGORIES:Unsere Veranstaltungen
ATTACH;FMTTYPE=image/png:https://dpunkt.de/wp-content/uploads/2025/12/Screenshot-2025-12-05-111648.png
END:VEVENT
BEGIN:VEVENT
DTSTART;VALUE=DATE:20260616
DTEND;VALUE=DATE:20260618
DTSTAMP:20260425T131658
CREATED:20251001T163920Z
LAST-MODIFIED:20251115T142429Z
UID:563267-1781568000-1781740799@dpunkt.de
SUMMARY:enter JS 2026
DESCRIPTION:Trends und Technologien in der JavaScript-Welt\nDie enterJS ist die Konferenz für Entwicklerinnen und Entwickler aus der JavaScript-gestützten Enterprise-Welt von heute und von morgen. Der Fokus liegt dabei nicht nur auf den neuesten Trends rund um die Programmiersprache JavaScript selbst\, sondern auch auf den Frameworks und Tools\, die zum Handwerkszeug jeder JavaScript-Entwickler:in gehören. \n2026 findet die enterJS vom 16. bis 17. Juni in Mannheim in der Manufaktur statt. Du möchtest auf jeden Fall dabei sein? Dann schnapp dir jetzt dein Ticket! \n\nDer Call for Proposals ist eröffnet und läuft bis zum 12. November 2025.
URL:https://dpunkt.de/event/enter-js-2026/
LOCATION:Mannheim
CATEGORIES:Unsere Veranstaltungen
ATTACH;FMTTYPE=image/jpeg:https://dpunkt.de/wp-content/uploads/2025/10/enterJS-2026-ho-Teaser-1032x540_NEU.jpg
ORGANIZER;CN="dpunkt.verlag":MAILTO:events@dpunkt.de
END:VEVENT
BEGIN:VEVENT
DTSTART;VALUE=DATE:20260616
DTEND;VALUE=DATE:20260618
DTSTAMP:20260425T131658
CREATED:20260320T071720Z
LAST-MODIFIED:20260320T071720Z
UID:577596-1781568000-1781740799@dpunkt.de
SUMMARY:Software Architecture Forum
DESCRIPTION:Möchtest du dein Wissen in Softwarearchitektur vertiefen und dich mit der Community austauschen? Dann ist das iSAQB® Software Architecture Forum genau das Richtige für dich. \n\n\nDie neue Community-Konferenz für die deutschsprachige Softwarearchitektur-Szene findet am 16.–17. Juni 2026 im Holiday Inn München-Unterhaching statt. Dich erwarten über 20 Sessions mit 23 Kurator:innen und Expert:innen des iSAQB\, die praxisnahe Einblicke in zentrale Themen des CPSA® Advanced Levels geben – von DDD und APIs bis hin zu KI und Green Software. \n\n\nIm Fokus stehen reale Projekterfahrungen\, fundierte architektonische Perspektiven und der Austausch auf Augenhöhe in einer persönlichen\, kompakten Atmosphäre. \n\nWas? Community-Konferenz für Softwarearchitektur\nWann & wo? 16.–17. Juni 2026 in München-Unterhaching\nFür wen? Softwarearchitekt:innen\, Entwickler:innen und IT-Expert:innen\nHighlights: Über 20 Sessions\, 23 iSAQB Expert:innen\, praxisnahe Inhalte\nTickets & Infos:  https://conferences.isaqb.org/software-architecture-forum/
URL:https://dpunkt.de/event/software-architecture-forum/
ATTACH;FMTTYPE=image/png:https://dpunkt.de/wp-content/uploads/2026/03/Banner-Software-Architecture-Forum_iSAQB_360.png
ORGANIZER;CN="iSAQB":MAILTO:info@isaqb.org
END:VEVENT
BEGIN:VEVENT
DTSTART;VALUE=DATE:20260625
DTEND;VALUE=DATE:20260626
DTSTAMP:20260425T131658
CREATED:20260129T124908Z
LAST-MODIFIED:20260129T124908Z
UID:573641-1782345600-1782431999@dpunkt.de
SUMMARY:Business Agility Nürnberg (BAN)
DESCRIPTION:Die Business Agility Nürnberg (BAN) ist eine Mischung aus Konferenz und Open Space für die agile Community der Metropolregion Nürnberg. Zusätzlich bieten wir Dir agile Simulationen\, Games\, Warm-Ups und Coaching Sessions an. Hier kannst Du Dich mit anderen vernetzen\, austauschen und Dein Wissen erweitern. \nUnd warum heißt die Business Agility Nürnberg so? Wir möchten das Thema „Agilität“ in seiner vollen Breite betrachten. Zum einen wollen wir zeigen\, wie Agilität in der Softwareentwicklung aber eben auch in allen anderen (non-IT) Bereichen funktionieren kann. Zum anderen finden auf der BAN sowohl Agilität auf Teamebene als auch skalierte Formen der Agilität ihren Raum. Es geht uns darum\, Agilität als einen Ansatz für das gesamte Unternehmen (Business Agility) zu präsentieren\, abseits von Buzzwords und Klischees. Weniger blabla\, mehr Kundenwert. \n 
URL:https://dpunkt.de/event/business-agility-nuernberg-ban/
LOCATION:Nürnberg
ATTACH;FMTTYPE=image/png:https://dpunkt.de/wp-content/uploads/2026/01/BAN_360.png
END:VEVENT
BEGIN:VEVENT
DTSTART;VALUE=DATE:20260625
DTEND;VALUE=DATE:20260626
DTSTAMP:20260425T131658
CREATED:20260320T183534Z
LAST-MODIFIED:20260320T183534Z
UID:577633-1782345600-1782431999@dpunkt.de
SUMMARY:Mastering GitOps 2026
DESCRIPTION:Progressive Delivery:\nSchneller\, sicherer\, kontrollierbarer deployen\nModerne Softwareteams stehen vor der Herausforderung\, Features schnell auszuliefern – ohne dabei Stabilität und Sicherheit zu opfern. GitOps bietet hier den entscheidenden Hebel: Durch die deklarative Verwaltung von Infrastruktur und Anwendungen im Git-Repository werden Deployments reproduzierbar\, nachvollziehbar und automatisierbar. Das Ergebnis: weniger manuelle Eingriffe\, schnellere Rollouts und ein klarer Audit-Trail für jede Änderung. \nMit dem Git-Repository als Single Source of Truth behalten Softwareentwickler:innen\, DevOps Engineers und Plattform-Teams jederzeit die Kontrolle über den Ist- und Zielzustand ihrer Systeme – und die Mastering GitOps liefert praxisnahes Know-how für den nächsten Schritt in Richtung Progressive Delivery.
URL:https://dpunkt.de/event/mastering-gitops-2026/
LOCATION:Online
CATEGORIES:online,Unsere Veranstaltungen
ATTACH;FMTTYPE=image/jpeg:https://dpunkt.de/wp-content/uploads/2026/03/MasteringGitOps-2026-ho-Teaser-Developer-16-9.jpg
END:VEVENT
BEGIN:VEVENT
DTSTART;VALUE=DATE:20260629
DTEND;VALUE=DATE:20260701
DTSTAMP:20260425T131658
CREATED:20251004T170004Z
LAST-MODIFIED:20251004T170005Z
UID:563571-1782691200-1782863999@dpunkt.de
SUMMARY:IT-GRC-Kongress 2026
DESCRIPTION:Der IT-GRC-Kongress 2026 wird am 29. und 30. Juni in Berlin stattfinden. Im Mittelpunkt stehen aktuelle Entwicklungen in den Bereichen IT-Governance\, Informationssicherheit\, IT-Revision\, Regulierung und Compliance sowie Riskmanagement. \nEs erwarten Sie Keynotes und Fachbeiträge von ausgewählten Vertretern aus Industrie und Wirtschaft\, Banken\, Beratungs-/IT-Systemhäusern und (Regulierungs-)Institutionen sowie Beiträge aus den ISACA-Fachgruppen zu relevanten und zukunftsbildenden Fachthemen. \nBeim Kongress wird die jährliche Mitgliederversammlung des ISACA Germany Chapters stattfinden.
URL:https://dpunkt.de/event/it-grc-kongress-2026/
LOCATION:Berlin
CATEGORIES:Unsere Veranstaltungen
ATTACH;FMTTYPE=image/png:https://dpunkt.de/wp-content/uploads/2025/10/it-grc-kongress.png
ORGANIZER;CN="dpunkt.verlag":MAILTO:events@dpunkt.de
END:VEVENT
BEGIN:VEVENT
DTSTART;VALUE=DATE:20260709
DTEND;VALUE=DATE:20260710
DTSTAMP:20260425T131658
CREATED:20260413T114841Z
LAST-MODIFIED:20260413T114841Z
UID:579364-1783555200-1783641599@dpunkt.de
SUMMARY:Product Owner AI Day 2026
DESCRIPTION:KI als Coworker in der Produktentwicklung\nKünstliche Intelligenz ist 2026 kein Experiment mehr\, sondern längst Teil des Arbeitsalltags. Der nächste Schritt für Product Owner besteht jetzt darin\, Abläufe mit KI zu automatisieren und sie in Workflows zu integrieren. \nDer Product Owner AI Day ist für dich richtig\, wenn du verstehen willst\, \n\n Iwie du deine Arbeit mit KI-Agenten automatisieren kannst\,\nwie KI die Workflows in deiner Projektarbeit vereinfacht\,\nwie du Produkte mit KI sinnvoll gestaltest\nund wie du bessere Produktentscheidungen mit KI triffst.
URL:https://dpunkt.de/event/product-owner-ai-day-2026/
LOCATION:Online
CATEGORIES:online,Unsere Veranstaltungen
ATTACH;FMTTYPE=image/jpeg:https://dpunkt.de/wp-content/uploads/2026/04/ai-POD-AI-2026-NL-Rectangle-276x230-1.jpg
ORGANIZER;CN="dpunkt.verlag":MAILTO:events@dpunkt.de
END:VEVENT
BEGIN:VEVENT
DTSTART;VALUE=DATE:20260916
DTEND;VALUE=DATE:20260918
DTSTAMP:20260425T131658
CREATED:20260130T114315Z
LAST-MODIFIED:20260202T111004Z
UID:573739-1789516800-1789689599@dpunkt.de
SUMMARY:TACON 2026
DESCRIPTION:Die TACON ist die Konferenz für Testing\, Testautomatisierung und Qualitätsmanagement (QM) in der Softwareentwicklung. Seit Jahren ist sie ein zentraler Treffpunkt für Expert:innen\, um sich über aktuelle Entwicklungen auszutauschen und zu vernetzen.  \nDich erwarten unter anderem folgende Themen: \n– Einsatz von KI für Testautomatisierung\n– Testautomatisierung mit Endgeräten\n– API Testing\n– Testen von KI – generiertem Code\n– Low / No Code\n– Nachhaltigkeit in Bezug auf KI \nHier findest du weitere Informationen: https://t1p.de/y5uz0 \nDieses Jahr findet die TACON vom 16. – 17. September 2026 in Leipzig statt. Sichere dir schon jetzt dein Ticket! \n 
URL:https://dpunkt.de/event/tacon-2026/
LOCATION:Leipzig
ATTACH;FMTTYPE=image/png:https://dpunkt.de/wp-content/uploads/2026/02/EK-Grafik-TACON_360.png
END:VEVENT
BEGIN:VEVENT
DTSTART;VALUE=DATE:20260922
DTEND;VALUE=DATE:20260924
DTSTAMP:20260425T131658
CREATED:20260126T115657Z
LAST-MODIFIED:20260414T080858Z
UID:573381-1790035200-1790207999@dpunkt.de
SUMMARY:heise devSec 2026
DESCRIPTION:Sichere Software beginnt vor der ersten Zeile Code…\nDie Angriffsvektoren auf Softwareprojekte werden immer ausgefeilter und zielen auf die gesamte Software Supply Chain. Die heise devSec hilft Ihnen\, frühzeitig Schwachstellen zu erkennen und zu vermeiden. \nDie heise devSec ist seit 2017 das bedeutendste deutschsprachige Fortbildungs- und Networking-Event für Softwareentwickler und Softwarearchitektinnen\, die Verantwortung tragen für die Sicherheit der entwickelten Software.
URL:https://dpunkt.de/event/heise-devsec-2026-call-for-papers-bis-14-april-2026/
LOCATION:Congresszentrum Marburg\, Anneliese-Pohl-Allee 3\, Marburg
CATEGORIES:Unsere Veranstaltungen
ATTACH;FMTTYPE=image/jpeg:https://dpunkt.de/wp-content/uploads/2024/01/heise-devsec-2022.jpg
ORGANIZER;CN="dpunkt.verlag":MAILTO:events@dpunkt.de
END:VEVENT
BEGIN:VEVENT
DTSTART;VALUE=DATE:20260928
DTEND;VALUE=DATE:20261001
DTSTAMP:20260425T131658
CREATED:20260130T114126Z
LAST-MODIFIED:20260130T114126Z
UID:573736-1790553600-1790812799@dpunkt.de
SUMMARY:Modern RE 2026
DESCRIPTION:Die Konferenz für Anforderungsmanagement & Business-Analyse im Software – und Systems Engineering. \nSeit 2017 bringt die Modern RE jährlich Expert:innen aus Industrie und Wissenschaft zusammen\, um Herausforderungen im Requirements Engineering zu beleuchten und innovative Lösungen zu entwickeln. Ziel ist es\, Effizienz\, Qualität und Projekterfolg in Software- und Systems-Engineering zu steigern. \nDiese Schwerpunkte erwarten dich: \n\nRequirements Engineering für KI- und Machine-Learning-Projekte\nBusiness-Analyse\nAgile Ansätze\nQualitätsmanagement\n\nMehr Infos findest du hier: https://t1p.de/8fa69 \nDie Modern RE feiert dieses Jahr ihr 10. Jubiläum vom 28. – 30. September in Leipzig. Sichere dir schon jetzt dein Ticket!
URL:https://dpunkt.de/event/modern-re-2026/
LOCATION:Leipzig
ATTACH;FMTTYPE=image/png:https://dpunkt.de/wp-content/uploads/2026/01/EK-Grafik-MRE_360.png
END:VEVENT
BEGIN:VEVENT
DTSTART;VALUE=DATE:20261007
DTEND;VALUE=DATE:20261009
DTSTAMP:20260425T131658
CREATED:20260130T163619Z
LAST-MODIFIED:20260417T083057Z
UID:573776-1791331200-1791503999@dpunkt.de
SUMMARY:data2day 2026
DESCRIPTION:Die Konferenz für Data Scientists\, Data Engineers und Data Teams\nEgal wo du\, dein Team oder dein Unternehmen sich auf der Data-Reise befinden – die data2day ist seit 2014 Treffpunkt für alle\, die sich rund um Data Science\, Data Engineering und Data Analytics informieren und austauschen wollen. \nDie zweitägige Konferenz vermittelt sowohl Grundlagen für den Einstieg in Data Science und Machine Learning für Data Beginners als auch tiefgreifende Informationen zu Architekturen\, Prozessen und Vorgehensmodellen für Data Professionals.
URL:https://dpunkt.de/event/data2day-2026-cfp-bis-15-april/
CATEGORIES:Unsere Veranstaltungen
ATTACH;FMTTYPE=image/jpeg:https://dpunkt.de/wp-content/uploads/2026/01/data2day-2026-NL-Developer-360x270-1.jpg
ORGANIZER;CN="dpunkt.verlag":MAILTO:events@dpunkt.de
END:VEVENT
BEGIN:VEVENT
DTSTART;VALUE=DATE:20261103
DTEND;VALUE=DATE:20261105
DTSTAMP:20260425T131658
CREATED:20260316T105853Z
LAST-MODIFIED:20260316T105853Z
UID:577259-1793664000-1793836799@dpunkt.de
SUMMARY:S2N: Die heise-Konferenz für Admins und IT-Verantwortliche | CfP bis 4. Mai
DESCRIPTION:Die S2N ist das Fortbildungs- und Networking-Event für alle\, die für einen effizienten und robusten IT-Betrieb verantwortlich sind: IT-Administratoren und Systemarchitekten\, RZ- und IT-Leiter\, CTOs und CIOs. \nAls Fokusthemen sind dieses Jahr geplant: \n\nHardware-Knappheit\nStabiler IT-Betrieb trotz Lieferengpässen bei RAM und Storage\nSchatten-KI\nGovernance\, Risiken\, technische Kontrolle und lokale Alternativen\nVon „Cloud first“ zu „Cloud rational“\nPragmatische Lösungen zwischen RZ\, Colocation und Cloud\nNetzwerk und Storage für KI\nKünstliche Intelligenz im und für das Rechenzentrum\n\n\n\n\n\n\n\n\nReiche jetzt deinen Vortrag ein! 
URL:https://dpunkt.de/event/s2n-die-heise-konferenz-fuer-admins-und-it-verantwortliche-cfp-bis-4-mai/
LOCATION:Berlin
CATEGORIES:Unsere Veranstaltungen
ATTACH;FMTTYPE=image/jpeg:https://dpunkt.de/wp-content/uploads/2024/03/S2N-e1719464585403.jpg
END:VEVENT
BEGIN:VEVENT
DTSTART;VALUE=DATE:20261111
DTEND;VALUE=DATE:20261113
DTSTAMP:20260425T131658
CREATED:20260218T124101Z
LAST-MODIFIED:20260421T065532Z
UID:575192-1794355200-1794527999@dpunkt.de
SUMMARY:CLC26: Die Konferenz zu Developer Experience\, Platform Engineering und mehr
DESCRIPTION:Die CLC ist die Konferenz für Developer Experience\, Platform Engineering und moderne Software Delivery. Seit 2013 bringt sie IT-Profis in Mannheim zusammen – von Entwickler:innen über DevOps- und Platform Engineers bis zu Architekt:innen. Im Fokus stehen Praxisberichte zu Dev(Sec)Ops\, Kubernetes\, CI/CD\, Observability und Infrastructure as Code – mit viel Raum für Networking und Austausch. \n 
URL:https://dpunkt.de/event/clc26-die-konferenz-zu-developer-experience-platform-engineering-und-mehr-cfp-bis-21-april-2026/
LOCATION:m:con – mannheim:congress GmbH\, Rosengartenplatz 2\, Mannheim\, 68161
CATEGORIES:Unsere Veranstaltungen
ATTACH;FMTTYPE=image/jpeg:https://dpunkt.de/wp-content/uploads/2026/02/CLC-2026-NL-Developer-360x270-1.jpg
ORGANIZER;CN="dpunkt.verlag":MAILTO:events@dpunkt.de
END:VEVENT
BEGIN:VEVENT
DTSTART;VALUE=DATE:20261117
DTEND;VALUE=DATE:20261119
DTSTAMP:20260425T131658
CREATED:20260413T105612Z
LAST-MODIFIED:20260413T105840Z
UID:579352-1794873600-1795046399@dpunkt.de
SUMMARY:Digitale Leute Summit
DESCRIPTION:Der Digitale Leute Summit ist Deutschlands führende Konferenz an der Schnittstelle von Product\, Engineering und UX/Design. Am 17. und 18. November 2026 kehrt der DL Summit nach Köln zurück – mit über 1.250 Softwareentwickler:innen\, UX-Designer:innen\, Produktmanager:innen und Digital Leaders aus Deutschland und ganz Europa. Der DL Summit startet mit dem brandneuen AI Deep Dive Day am 17. November: ein ganzer Tag\, der dem praktischen Einsatz von Künstlicher Intelligenz in der digitalen Produktentwicklung gewidmet ist. Auf drei parallelen Stages tauchen die Teilnehmenden tief ein in KI im Product Management\, KI im Product Design und KI im Engineering – in einem Bootcamp-Format mit 90-minütigen Sessions und einem 30-minütigen Q&A am Ende für Diskussion\, Reflexion und Austausch mit den Sprecher:innen. Der 18. November bietet das klassische Conference Day-Programm mit international renommierten Sprecher:innen\, Keynotes\, Talks\, Panels und 20+ ausstellenden Unternehmen. Expert:innen von Atlassian\, Zendesk\, Microsoft\, sevdesk und weiteren Unternehmen teilen ihre Erkenntnisse zu Product\, Engineering\, Design und Digital Leadership. Seit 2018 ist der Digitale Leute Summit eine Plattform für nationale und internationale Thought Leader\, die die Herausforderungen und Entwicklungen beim Aufbau digitaler Produkte im Enterprise-Umfeld diskutieren.
URL:https://dpunkt.de/event/digitale-leute-summit/
LOCATION:Köln
ATTACH;FMTTYPE=image/png:https://dpunkt.de/wp-content/uploads/2026/04/Event-Calendar-Banner_360.png
END:VEVENT
BEGIN:VEVENT
DTSTART;VALUE=DATE:20261123
DTEND;VALUE=DATE:20261125
DTSTAMP:20260425T131658
CREATED:20260202T130051Z
LAST-MODIFIED:20260202T130051Z
UID:574008-1795392000-1795564799@dpunkt.de
SUMMARY:GRC-Days für SAP-Anwendungen | CfP bis 30. April 2026
DESCRIPTION:Sicherheit und Compliance in SAP-Systemen – Die Konferenz für Auditoren\, Administratoren und Process Owner\n\n\n\n\nDie GRC Days bringen Prüfer mit SAP-Fokus\, Fachbereiche und Systembetrieb zusammen. Beiträge von hochkarätigen Speakern bringen Sie auf den neusten Stand in Sachen Sicherheit und Compliance. Mit praxisnahen Themen und prozessorientierten Workshops liefern wir Ihnen das Rüstzeug\, um Ihre Systeme gegen Bedrohungen von innen und außen zu schützen. \n\n\n\n\n\n\n\n\nMöchten Sie Ihr Wissen mit Fachkolleginnen und -kollegen teilen? Reizt es Sie\, von eigenen Erfahrungen zu berichten und sie mit einem Fachpublikum zu diskutieren? \nDann reichen Sie ab sofort und bis zum 30.04.2026 Ihre Ideen über den Call for Proposals ein. Der Programmbeirat freut sich auf Ihre Vorschläge.
URL:https://dpunkt.de/event/grc-days-fuer-sap-anwendungen-cfp-bis-30-april-2026/
LOCATION:ATLANTIC Hotel Heidelberg\, Europaplatz 1\, Heidelberg\, 69115
CATEGORIES:Unsere Veranstaltungen
ATTACH;FMTTYPE=image/png:https://dpunkt.de/wp-content/uploads/2026/02/GRC-Days-2026_1200x628_OG-Grafik.png
ORGANIZER;CN="dpunkt.verlag":MAILTO:events@dpunkt.de
END:VEVENT
BEGIN:VEVENT
DTSTART;VALUE=DATE:20261124
DTEND;VALUE=DATE:20261127
DTSTAMP:20260425T131658
CREATED:20260130T113800Z
LAST-MODIFIED:20260130T115009Z
UID:573731-1795478400-1795737599@dpunkt.de
SUMMARY:Manage Agile 2026
DESCRIPTION:Die Manage Agile zählt zu den bedeutendsten Konferenzen der agilen Szene im deutschsprachigen Raum. Seit 2014 kommen dort jährlich Keyplayer\, Konzerne sowie mittelständische und kleine Unternehmen mitsamt ihren Führungskräften zusammen\, um sich über Neuerungen in der Führung auszutauschen und die gewonnenen Erkenntnisse in ihre Organisationen zu tragen. \nFolgende Schwerpunkte erwarten dich: \n\nNew Leadership\nTeambuilding\nFuture Work\nUnternehmensorganisation\nKI in der Unternehmensführung\n\nWeitere Informationen findest du hier: https://t1p.de/b25op \nDieses Jahr findet die Manage Agile vom 24. – 26. September 2026 in Leipzig statt. Sichere dir schon jetzt dein Ticket!
URL:https://dpunkt.de/event/manage-agile-2026/
LOCATION:Leipzig
ATTACH;FMTTYPE=image/png:https://dpunkt.de/wp-content/uploads/2026/01/EK-Grafik-MAG_360.png
END:VEVENT
END:VCALENDAR