BEGIN:VCALENDAR
VERSION:2.0
PRODID:-//dpunkt.verlag - ECPv6.15.16//NONSGML v1.0//EN
CALSCALE:GREGORIAN
METHOD:PUBLISH
X-WR-CALNAME:dpunkt.verlag
X-ORIGINAL-URL:https://dpunkt.de
X-WR-CALDESC:Veranstaltungen für dpunkt.verlag
REFRESH-INTERVAL;VALUE=DURATION:PT1H
X-Robots-Tag:noindex
X-PUBLISHED-TTL:PT1H
BEGIN:VTIMEZONE
TZID:Europe/Berlin
BEGIN:DAYLIGHT
TZOFFSETFROM:+0100
TZOFFSETTO:+0200
TZNAME:CEST
DTSTART:20240331T010000
END:DAYLIGHT
BEGIN:STANDARD
TZOFFSETFROM:+0200
TZOFFSETTO:+0100
TZNAME:CET
DTSTART:20241027T010000
END:STANDARD
BEGIN:DAYLIGHT
TZOFFSETFROM:+0100
TZOFFSETTO:+0200
TZNAME:CEST
DTSTART:20250330T010000
END:DAYLIGHT
BEGIN:STANDARD
TZOFFSETFROM:+0200
TZOFFSETTO:+0100
TZNAME:CET
DTSTART:20251026T010000
END:STANDARD
BEGIN:DAYLIGHT
TZOFFSETFROM:+0100
TZOFFSETTO:+0200
TZNAME:CEST
DTSTART:20260329T010000
END:DAYLIGHT
BEGIN:STANDARD
TZOFFSETFROM:+0200
TZOFFSETTO:+0100
TZNAME:CET
DTSTART:20261025T010000
END:STANDARD
END:VTIMEZONE
BEGIN:VEVENT
DTSTART;VALUE=DATE:20251125
DTEND;VALUE=DATE:20251126
DTSTAMP:20260419T231146
CREATED:20250430T092338Z
LAST-MODIFIED:20250430T092338Z
UID:549837-1764028800-1764115199@dpunkt.de
SUMMARY:better Code () PHP 2025
DESCRIPTION:Die heise-Konferenz zu PHP\n\n\n\nMach deine PHP-Anwendung fit für 2026\nDie neue PHP-Version 8.5 steht vor der Tür. Ein guter Anlass\, um die eigenen Anwendungen genau unter die Lupe zu nehmen und zukunftssicher zu machen. \n  \nGenau dafür bietet dir die betterCode() PHP 2025 in Kooperation mit thePHP.cc ein kompaktes Programm aus Vorträgen und Diskussionsrunden. \n 
URL:https://dpunkt.de/event/better-code-php-2025/
CATEGORIES:Unsere Veranstaltungen
ATTACH;FMTTYPE=image/png:https://dpunkt.de/wp-content/uploads/2024/07/betterCodePHP-e1721895854732.png
END:VEVENT
END:VCALENDAR